BEGIN:VCALENDAR
VERSION:2.0
PRODID:-//ChamberMaster//Event Calendar 2.0//EN
METHOD:PUBLISH
X-PUBLISHED-TTL:P3D
REFRESH-INTERVAL:P3D
CALSCALE:GREGORIAN
BEGIN:VEVENT
DTSTART:20260422T170000Z
DTEND:20260422T180000Z
X-MICROSOFT-CDO-ALLDAYEVENT:FALSE
SUMMARY:Desert Rodeo Ribbon Cutting & Behind the Scenes
DESCRIPTION:Ahead of Desert Rodeo kicking off this Friday\, Rancho Mirage Chamber of Commerce is inviting members to an exclusive 2nd Annual Ribbon Cutting + Behind-the-Scenes Tour in partnership with the Greater Coachella Valley Chamber of Commerce- a chance to walk the grounds\, see the build come to life\, and connect with the team behind it.\n\nThis is a casual\, behind-the-scenes look at how everything comes together before the weekend-arena\, production\, hospitality\, and all the moving parts that bring Desert Rodeo to life. Desert Rodeo is proud member of RMCC and excited to share what we are be building with our community\, partners\, and media
X-ALT-DESC;FMTTYPE=text/html:Ahead of Desert Rodeo kicking off this Friday\, Rancho Mirage Chamber of Commerce is inviting members to an exclusive <strong>2<sup>nd</sup> Annual Ribbon Cutting + Behind-the-Scenes Tour</strong>&nbsp\;in partnership with the Greater Coachella Valley Chamber of Commerce- a chance to walk the grounds\, see the build come to life\, and connect with the team behind it.<br>\nThis is a casual\, behind-the-scenes look at how everything comes together before the weekend-arena\, production\, hospitality\, and all the moving parts that bring Desert Rodeo to life. Desert Rodeo is proud member of RMCC and excited to share what we are be building with our community\, partners\, and media<br>\n&nbsp\;
LOCATION:Desert Rodeo 85555 Airport Blvd. Thermal\, CA
UID:e.241.5814
SEQUENCE:3
DTSTAMP:20260421T203110Z
URL:http://business.ranchomirage.org/events/details/desert-rodeo-ribbon-cutting-behind-the-scenes-5814
END:VEVENT

END:VCALENDAR
